BEGIN:VCALENDAR
VERSION:2.0
PRODID:-//Cub Scout Pack 412 - Blaine, MN - ECPv6.15.17//NONSGML v1.0//EN
CALSCALE:GREGORIAN
METHOD:PUBLISH
X-WR-CALNAME:Cub Scout Pack 412 - Blaine, MN
X-ORIGINAL-URL:https://www.pack412.org
X-WR-CALDESC:Events for Cub Scout Pack 412 - Blaine, MN
REFRESH-INTERVAL;VALUE=DURATION:PT1H
X-Robots-Tag:noindex
X-PUBLISHED-TTL:PT1H
BEGIN:VTIMEZONE
TZID:America/Chicago
BEGIN:DAYLIGHT
TZOFFSETFROM:-0600
TZOFFSETTO:-0500
TZNAME:CDT
DTSTART:20240310T080000
END:DAYLIGHT
BEGIN:STANDARD
TZOFFSETFROM:-0500
TZOFFSETTO:-0600
TZNAME:CST
DTSTART:20241103T070000
END:STANDARD
BEGIN:DAYLIGHT
TZOFFSETFROM:-0600
TZOFFSETTO:-0500
TZNAME:CDT
DTSTART:20250309T080000
END:DAYLIGHT
BEGIN:STANDARD
TZOFFSETFROM:-0500
TZOFFSETTO:-0600
TZNAME:CST
DTSTART:20251102T070000
END:STANDARD
BEGIN:DAYLIGHT
TZOFFSETFROM:-0600
TZOFFSETTO:-0500
TZNAME:CDT
DTSTART:20260308T080000
END:DAYLIGHT
BEGIN:STANDARD
TZOFFSETFROM:-0500
TZOFFSETTO:-0600
TZNAME:CST
DTSTART:20261101T070000
END:STANDARD
END:VTIMEZONE
BEGIN:VEVENT
DTSTART;TZID=America/Chicago:20250919T180000
DTEND;TZID=America/Chicago:20250921T113000
DTSTAMP:20260424T042228
CREATED:20250721T020653Z
LAST-MODIFIED:20250721T020653Z
UID:1012-1758304800-1758454200@www.pack412.org
SUMMARY:Pack 412 Fall Camp
DESCRIPTION:Join us for a weekend of outdoor adventure at our Fall Pack Campout! \nWe’ll enjoy all the classic Cub Scout activities – campfires\, games\, hikes\, crafts\, and more – while also starting work on adventures toward earning our Cub Scout ranks. \nThis campout is especially important for new scouts to attend as it kicks off their journey in Cub Scouting! Come ready for fun\, learning\, and making great memories together!
URL:https://www.pack412.org/event/pack-412-fall-camp/
LOCATION:Rum River Scout Camp\, 15659 St Francis Blvd NW\, Ramsey\, MN\, 55303
CATEGORIES:Camping
ATTACH;FMTTYPE=image/png:https://www.pack412.org/wp-content/uploads/2025/07/Rum-River-Logo-e1753063596872.png
END:VEVENT
BEGIN:VEVENT
DTSTART;TZID=America/Chicago:20250801T180000
DTEND;TZID=America/Chicago:20250803T113000
DTSTAMP:20260424T042228
CREATED:20250721T002244Z
LAST-MODIFIED:20250721T014827Z
UID:971-1754071200-1754220600@www.pack412.org
SUMMARY:Pack 412 Summer Camp
DESCRIPTION:Adventure awaits at Cub Scout Summer Camp! You can look forward to a weekend full of activities such as swimming\, archery\, boating\, BB guns\, climbing and so much more! Join us at Kiwanis Scout Camp for a weekend of outdoor adventure! Register here: https://www.scoutingevent.com/250-84729-202528 Spots are limited\, so don’t wait get your Scout signed up today! 
URL:https://www.pack412.org/event/pack-412-summer-camp/
LOCATION:Kiwanis Scout Camp\, 15987 St Croix Trail N\, Marine on St Croix\, Minnesota\, 55047
CATEGORIES:Camping
ATTACH;FMTTYPE=image/png:https://www.pack412.org/wp-content/uploads/2025/07/Kiwanis-Scout-Camp-Logo-e1753061972838.png
END:VEVENT
END:VCALENDAR